{"text_format":"1","workbook":"xlsx","n_sheets":13,"sheets":["配布申込書◆併配","配布申込書◆単独","MAP","A加茂名、B加茂","C佐古、D渭北","E渭東、F沖洲","G内町","H昭和","I八万","J津田","K1川内・K2応神・K3国府","L1石井・L2北島・L3松茂・L4藍住・L5鳴門","L6小松島・M1阿南・M2吉野川"],"not_rendered":{"charts":0,"images":1,"macros":1,"external_links":0,"defined_names":1,"comments":0,"pivot_tables":0},"unopened":[],"bounds":{"document_bytes":16777216,"sheet_cells":100000,"rows_first":2000,"rows_last":500,"rows_between":2000,"halvings":0,"cell_chars":16384,"cell_head_chars":4096},"cells_cut":0,"cells_raw":0,"read":"whole","date_system":"1900"}

{"sheet":"配布申込書◆併配","index":0,"n_rows":41,"n_cols":12,"rows_kept":41,"cut":false,"hidden":false,"merged":[[0,0,0,11],[1,0,1,5],[1,7,1,11],[2,0,2,1],[2,2,2,5],[2,7,2,8],[3,0,3,1],[3,2,3,6],[3,7,3,8],[3,9,3,11],[4,0,4,1],[4,2,4,6],[4,7,4,8],[4,9,4,10],[5,0,5,1],[5,2,5,6],[5,7,5,8],[5,9,5,11],[6,0,6,1],[6,2,6,6],[6,7,6,8],[6,9,6,11],[7,0,8,1],[7,2,7,6],[7,7,7,8],[7,9,7,11],[8,2,8,6],[8,7,8,8],[8,9,8,11],[9,0,9,1],[9,2,9,8],[9,9,9,11],[10,0,10,1],[11,0,11,2],[11,3,11,5],[11,6,11,8],[11,9,11,11],[20,0,20,2],[12,0,12,1],[12,3,12,4],[12,6,12,7],[12,9,12,10],[14,0,14,2],[14,3,14,5],[14,6,14,8],[15,0,15,2],[16,0,16,2],[17,0,17,2],[18,0,18,2],[19,0,19,2],[13,0,13,8],[32,0,32,2],[21,0,21,2],[22,0,22,2],[23,0,23,2],[24,0,24,2],[25,0,25,2],[26,0,26,2],[27,0,27,2],[28,0,28,2],[29,0,29,2],[30,0,30,2],[31,0,31,2],[40,0,40,11],[33,0,33,2],[34,0,34,2],[35,0,35,2],[36,0,36,2],[37,0,37,2],[39,0,39,11]]}
["チラシ配布申込書（併用配布）"]
["太枠内の項目にご記入をお願い致します。",null,null,null,null,null,null,"プルダウンより年月日(曜日)をお選びください"]
[null,null,null,null,null,null,"お申込日"]
["フリガナ",null,null,null,null,null,null,"フリガナ"]
["御社名",null,null,null,null,null,null,"ご担当者",null,null,null,"様"]
["ご住所",null,null,null,null,null,null,"電話番号"]
["チラシ表記名",null,null,null,null,null,null,"FAX番号"]
["配布物サイズ",null,"　　A5  　  B5 　    A4　 　B4 　　 A3　　 B3",null,null,null,null,"配布物形状",null,"     折済　   ペラ"]
[null,null,"      その他（　　　　　　　　　　　　　 　　　　　　）",null,null,null,null,"配布先",null,"     全戸　   集合　   戸建"]
["配布方法",null,"配布日 [プルダウンより月日(曜日)をお選びください]",null,null,null,null,null,null,"搬入日"]
["併用配布",null,null,null,null,"～"]
["戸建総数",null,null,"集合総数",null,null,"全戸総数",null,null,"総合計枚数"]
[{"$f":"G38","v":0},null,"枚",{"$f":"H38","v":0},null,"枚",{"$f":"I38","v":0},null,"枚",{"$f":"SUM(G38:I38)","v":0},null,"枚"]
["ご希望のエリアに希望配布数をご入力ください"]
[null,null,null,"エリア別配布数",null,null,"エリア別希望配布数"]
[null,null,null,"戸建","集合","全戸","戸建","集合","全戸"]
["A.加茂名エリア",null,null,4677,5084,9939]
["B.加茂エリア",null,null,3476,3611,7275]
["C.佐古エリア",null,null,2640,3597,6548]
["D.渭北エリア",null,null,2947,4052,7247]
["E.渭東エリア",null,null,2396,4932,7495]
["F.沖洲エリア",null,null,3697,3967,7940]
["G.内町エリア",null,null,2545,4321,8807]
["H.昭和エリア",null,null,2820,5687,8930]
["I.八万エリア",null,null,9072,3099,12492]
["J.津田エリア",null,null,5453,2635,8394]
["K1.川内エリア",null,null,399,1126,1525]
["K2.応神エリア",null,null,253,1667,1920]
["K3.国府エリア",null,null,208,1354,1562]
["L1.石井エリア",null,null,400,1307,1707]
["L2.北島エリア",null,null,926,2629,3555]
["L3.松茂エリア",null,null,498,1975,2473]
["L4.藍住エリア",null,null,1689,3428,5117]
["L5.鳴門エリア",null,null,1022,4381,5403]
["L6.小松島エリア",null,null,1554,2639,4193]
["M1.阿南エリア",null,null,846,3831,4677]
["M2.吉野川エリア",null,null,0,1400,1400]
["合  計",null,null,{"$f":"SUM(D17:D37)","v":47518},66722,118599,{"$f":"SUM(G17:G37)","v":0},{"$f":"SUM(H17:H37)","v":0},{"$f":"SUM(I17:I37)","v":0}]
[]
["有限会社ミッドサービス　"]
["TEL：088-679-1119　FAX：088-679-9993　"]

{"sheet":"配布申込書◆単独","index":1,"n_rows":41,"n_cols":12,"rows_kept":41,"cut":false,"hidden":false,"merged":[[39,0,39,11],[40,0,40,11],[11,0,11,2],[11,3,11,5],[11,6,11,8],[11,9,11,11],[12,0,12,1],[12,9,12,10],[12,3,12,4],[12,6,12,7],[21,0,21,2],[22,0,22,2],[23,0,23,2],[24,0,24,2],[13,0,13,11],[16,0,16,2],[7,7,7,8],[7,9,7,11],[5,0,5,1],[6,7,6,8],[6,9,6,11],[7,0,8,1],[8,2,8,6],[8,7,8,8],[8,9,8,11],[7,2,7,6],[5,2,5,6],[5,7,5,8],[5,9,5,11],[4,0,4,1],[4,2,4,6],[4,7,4,8],[4,9,4,10],[6,0,6,1],[6,2,6,6],[0,0,0,11],[2,0,2,1],[3,0,3,1],[3,2,3,6],[3,7,3,8],[3,9,3,11],[2,2,2,5],[2,7,2,8],[1,0,1,5],[1,7,1,11],[37,0,37,2],[14,0,14,2],[15,0,15,2],[14,3,14,5],[30,0,30,2],[31,0,31,2],[32,0,32,2],[33,0,33,2],[34,0,34,2],[25,0,25,2],[26,0,26,2],[27,0,27,2],[28,0,28,2],[29,0,29,2],[20,0,20,2],[17,0,17,2],[36,0,36,2],[9,9,9,11],[10,0,10,1],[9,2,9,8],[9,0,9,1],[35,0,35,2],[18,0,18,2],[19,0,19,2],[14,6,14,8],[14,9,14,11]]}
["チラシ配布申込書（単独配布）"]
["太枠内の項目にご記入をお願い致します。",null,null,null,null,null,null,"プルダウンより年月日(曜日)をお選びください"]
[null,null,null,null,null,null,"お申込日"]
["フリガナ",null,null,null,null,null,null,"フリガナ"]
["御社名",null,null,null,null,null,null,"ご担当者",null,null,null,"様"]
["ご住所",null,null,null,null,null,null,"電話番号"]
["チラシ表記名",null,null,null,null,null,null,"FAX番号"]
["配布物サイズ",null,"　　A5  　  B5 　    A4　 　B4 　　 A3　　 B3",null,null,null,null,"配布物形状",null,"     折済　   ペラ"]
[null,null,"      その他（　　　　　　　　　　　　　 　　　　　　）",null,null,null,null,"配布先",null,"     全戸　   集合　   戸建"]
["配布方法",null,"配布日 [プルダウンより月日(曜日)をお選びください]",null,null,null,null,null,null,"搬入日"]
["単独配布",null,null,null,null,"～"]
["戸建総数",null,null,"集合総数",null,null,"全戸総数",null,null,"総合計枚数"]
[{"$f":"G38+J38","v":0},null,"枚",{"$f":"H38+K38","v":0},null,"枚",{"$f":"I38+L38","v":0},null,"枚",{"$f":"SUM(G38:L38)","v":0},null,"枚"]
["ブロック別配布をご希望の場合はエリア名(A～M2)をクリック→ブロック別に希望配布数をご入力ください。\nエリア別配布数より少ない配布数をご希望場合は②エリア別希望配布数に直接ご入力ください。"]
[null,null,null,"配布数",null,null,"①ブロック別希望配布数",null,null,"②エリア別希望配布数"]
[null,null,null,"戸建","集合","全戸","戸建","集合","全戸","戸建","集合","全戸"]
["A.加茂名エリア",null,null,4677,5084,9939,{"$f":"'A加茂名、B加茂'!F27","v":0},{"$f":"'A加茂名、B加茂'!G27","v":0},{"$f":"'A加茂名、B加茂'!H27","v":0}]
["B.加茂エリア",null,null,3476,3611,7275,{"$f":"'A加茂名、B加茂'!F50","v":0},{"$f":"'A加茂名、B加茂'!G50","v":0},{"$f":"'A加茂名、B加茂'!H50","v":0}]
["C.佐古エリア",null,null,2640,3597,6548,{"$f":"'C佐古、D渭北'!F20","v":0},{"$f":"'C佐古、D渭北'!G20","v":0},{"$f":"'C佐古、D渭北'!H20","v":0}]
["D.渭北エリア",null,null,2947,4052,7247,{"$f":"'C佐古、D渭北'!F40","v":0},{"$f":"'C佐古、D渭北'!G40","v":0},{"$f":"'C佐古、D渭北'!H40","v":0}]
["E.渭東エリア",null,null,2396,4932,7495,{"$f":"'E渭東、F沖洲'!F20","v":0},{"$f":"'E渭東、F沖洲'!G20","v":0},{"$f":"'E渭東、F沖洲'!H20","v":0}]
["F.沖洲エリア",null,null,3697,3967,7940,{"$f":"'E渭東、F沖洲'!F45","v":0},{"$f":"'E渭東、F沖洲'!G45","v":0},{"$f":"'E渭東、F沖洲'!H45","v":0}]
["G.内町エリア",null,null,2545,4321,8807,{"$f":"G内町!F27","v":0},{"$f":"G内町!G27","v":0},{"$f":"G内町!H27","v":0}]
["H.昭和エリア",null,null,2820,5687,8930,{"$f":"H昭和!F22","v":0},{"$f":"H昭和!G22","v":0},{"$f":"H昭和!H22","v":0}]
["I.八万エリア",null,null,9072,3099,12492,{"$f":"I八万!F31","v":0},{"$f":"I八万!G31","v":0},{"$f":"I八万!H31","v":0}]
["J.津田エリア",null,null,5453,2635,8394,{"$f":"J津田!F25","v":0},{"$f":"J津田!G25","v":0},{"$f":"J津田!H25","v":0}]
["K1.川内エリア",null,null,399,1126,1525,{"$f":"K1川内・K2応神・K3国府!F7","v":0},{"$f":"K1川内・K2応神・K3国府!G7","v":0},{"$f":"K1川内・K2応神・K3国府!H7","v":0}]
["K2.応神エリア",null,null,253,1667,1920,{"$f":"K1川内・K2応神・K3国府!F13","v":0},{"$f":"K1川内・K2応神・K3国府!G13","v":0},{"$f":"K1川内・K2応神・K3国府!H13","v":0}]
["K3.国府エリア",null,null,208,1354,1562,{"$f":"K1川内・K2応神・K3国府!F18","v":0},{"$f":"K1川内・K2応神・K3国府!G18","v":0},{"$f":"K1川内・K2応神・K3国府!H18","v":0}]
["L1.石井エリア",null,null,400,1307,1707,{"$f":"L1石井・L2北島・L3松茂・L4藍住・L5鳴門!F6","v":0},{"$f":"L1石井・L2北島・L3松茂・L4藍住・L5鳴門!G6","v":0},{"$f":"L1石井・L2北島・L3松茂・L4藍住・L5鳴門!H6","v":0}]
["L2.北島エリア",null,null,926,2629,3555,{"$f":"L1石井・L2北島・L3松茂・L4藍住・L5鳴門!F14","v":0},{"$f":"L1石井・L2北島・L3松茂・L4藍住・L5鳴門!G14","v":0},{"$f":"L1石井・L2北島・L3松茂・L4藍住・L5鳴門!H14","v":0}]
["L3.松茂エリア",null,null,498,1975,2473,{"$f":"L1石井・L2北島・L3松茂・L4藍住・L5鳴門!F21","v":0},{"$f":"L1石井・L2北島・L3松茂・L4藍住・L5鳴門!G21","v":0},{"$f":"L1石井・L2北島・L3松茂・L4藍住・L5鳴門!H21","v":0}]
["L4.藍住エリア",null,null,1689,3428,5117,{"$f":"L1石井・L2北島・L3松茂・L4藍住・L5鳴門!F30","v":0},{"$f":"L1石井・L2北島・L3松茂・L4藍住・L5鳴門!G30","v":0},{"$f":"L1石井・L2北島・L3松茂・L4藍住・L5鳴門!H30","v":0}]
["L5.鳴門エリア",null,null,1022,4381,5403,{"$f":"L1石井・L2北島・L3松茂・L4藍住・L5鳴門!F38","v":0},{"$f":"L1石井・L2北島・L3松茂・L4藍住・L5鳴門!G38","v":0},{"$f":"L1石井・L2北島・L3松茂・L4藍住・L5鳴門!H38","v":0}]
["L6.小松島エリア",null,null,1554,2639,4193,{"$f":"L6小松島・M1阿南・M2吉野川!F9","v":0},{"$f":"L6小松島・M1阿南・M2吉野川!G9","v":0},{"$f":"L6小松島・M1阿南・M2吉野川!H9","v":0}]
["M1.阿南エリア",null,null,846,3831,4677,{"$f":"L6小松島・M1阿南・M2吉野川!F19","v":0},{"$f":"L6小松島・M1阿南・M2吉野川!G19","v":0},{"$f":"L6小松島・M1阿南・M2吉野川!H19","v":0}]
["M2.吉野川エリア",null,null,0,1400,1400,null,{"$f":"L6小松島・M1阿南・M2吉野川!G25","v":0},{"$f":"L6小松島・M1阿南・M2吉野川!H25","v":0}]
["合  計",null,null,{"$f":"SUM(D17:D37)","v":47518},66722,118599,{"$f":"SUM(G17:G37)","v":0},{"$f":"SUM(H17:H37)","v":0},{"$f":"SUM(I17:I37)","v":0},{"$f":"SUM(J17:J37)","v":0},0,0]
[]
["有限会社ミッドサービス　"]
["TEL：088-679-1119　FAX：088-679-9993　"]

{"sheet":"MAP","index":2,"n_rows":0,"n_cols":0,"rows_kept":0,"cut":false,"hidden":false,"merged":[]}

{"sheet":"A加茂名、B加茂","index":3,"n_rows":50,"n_cols":8,"rows_kept":50,"cut":false,"hidden":false,"merged":[[0,0,0,7],[2,5,2,7],[28,5,28,7],[28,1,29,1],[28,2,28,4],[1,0,1,1],[2,2,2,4],[2,1,3,1],[27,0,27,1]]}
["▼ご希望のブロックの配布希望数をご入力ください"]
["A. 加茂名エリア"]
["ブロック","町　　　名","ブロック別配布数",null,null,"配布希望数"]
["番号",null,"戸建","集合","全戸","戸建","集合","全戸"]
["01","名東町２、３丁目",385,60,454]
["02","名東町２丁目",189,226,427]
["03","名東町２丁目",382,140,537]
["04","名東町１丁目",337,126,463]
["05","名東町１丁目",284,326,616]
["06","鮎喰町２丁目",191,43,244]
["07","鮎喰町１、２丁目 南庄町５丁目",183,172,360]
["08","鮎喰町１、２丁目",146,10,159]
["09","南庄町４、５丁目 庄町４、５丁目",222,257,495]
["10","南庄町１～３丁目 加茂名町",126,575,701]
["11","庄町５丁目",171,112,311]
["12","庄町３、４丁目",208,250,478]
["13","庄町１～３丁目",160,481,654]
["14","南島田町３、４丁目 中島田町４丁目",133,345,483]
["15","南島田町１、２丁目 中島田町２丁目",174,394,572]
["16","中島田町２～４丁目 南島田町２、３丁目",186,228,414]
["17","中島田町３、４丁目 北島田町２、３丁目",128,309,448]
["18","北島田町１、２丁目 中島田町２、３丁目",162,182,350]
["19","北島田町１丁目 中島田町１丁目 北矢三町４丁目(１～３番地)",173,187,371]
["20","北島田町１～３丁目 北矢三町４丁目(４番地)",99,287,390]
["21","名東町２、３丁目",319,201,520]
["22","名東町３丁目 加茂名町",319,173,492]
[null,"小  　計",{"$f":"SUM(C5:C26)","v":4677},5084,9939,{"$f":"SUM(F5:F26)","v":0},0,0]
["B. 加茂エリア"]
["ブロック","町　　　名","ブロック別配布数",null,null,"配布希望数"]
["番号",null,"戸建","集合","全戸","戸建","集合","全戸"]
["01","北矢三町３丁目(6.8番地) ４丁目(5～10番地)",280,200,490]
["02","北矢三町２丁目(6～10番地) ３丁目(5.6.7番地)",215,163,383]
["03","春日３丁目(1～5番地)",161,142,317]
["04","春日１丁目(4～7番地) ２丁目",382,405,812]
["05","北田宮３丁目(4～11番地)　春日１丁目(1～3番地)",306,263,581]
["06","北田宮２丁目(8～15番地)",243,173,426]
["07","北田宮２丁目(1～7番地)",265,378,653]
["08","北田宮４丁目",196,186,403]
["09","北矢三町１丁目(1～3番地)",125,243,381]
["10","北矢三町２丁目(1～5番地)",115,199,318]
["11","北矢三町３丁目(1～4番地)",175,170,345]
["12","南矢三町３丁目(3～6.10.11番地)",71,135,217]
["13","南矢三町３丁目(1.2.7.8.9.10番地)",111,117,238]
["14","南矢三町２丁目(1～5番地)",142,104,259]
["15","南矢三町１丁目(1～7番地)",140,72,217]
["16","南田宮４丁目",136,158,301]
["17","南田宮３丁目　北田宮３丁目(1～3番地)",120,181,309]
["18","南矢三町１丁目(8～14番地)",159,138,301]
["19","南矢三町２丁目(6～11番地)",134,184,324]
[null,"小  　計",{"$f":"SUM(C31:C49)","v":3476},3611,7275,{"$f":"SUM(F31:F49)","v":0},0,0]

{"sheet":"C佐古、D渭北","index":4,"n_rows":40,"n_cols":8,"rows_kept":40,"cut":false,"hidden":false,"merged":[[2,5,2,7],[21,5,21,7],[0,0,0,7],[21,1,22,1],[21,2,21,4],[1,0,1,1],[2,2,2,4],[2,1,3,1],[20,0,20,1]]}
["▼ご希望のブロックの配布希望数をご入力ください"]
["C. 佐古エリア "]
["ブロック","町　　　名","ブロック別配布数",null,null,"配布希望数"]
["番号",null,"戸建","集合","全戸","戸建","集合","全戸"]
["01","蔵本町１～３丁目　蔵本元町１丁目",70,282,411]
["02","蔵本元町２、３丁目",117,275,411]
["03","佐古８番町",126,289,438]
["04","佐古７番町",141,164,309]
["05","佐古６番町",230,274,521]
["06","南蔵本町１～３丁目 南佐古８番町(4～7番地)",121,292,413]
["07","南佐古７番町 南佐古８番町(1～4番地)",215,159,381]
["08","南佐古５、６番町",244,306,550]
["09","佐古５番町",170,145,350]
["10","佐古３番町（7～17番地） 佐古４番町(7～13番地) 北佐古２番町（6番地）",231,452,694]
["11","佐古３番町(1～6番地) 佐古４番町(1～6番地)",168,185,388]
["12","南佐古３、４番町",243,147,403]
["13","佐古１番町(9～18番地) 佐古２番町(7～19番地)",189,198,388]
["14","佐古１番町(1～8番地) ２番町(1～6番地) 南佐古１番町 ２番町(1～6番地)　西新町５丁目",255,159,499]
["15","北佐古１、２番町",120,270,392]
[null,"小  　計",{"$f":"SUM(C5:C19)","v":2640},3597,6548,{"$f":"SUM(F5:F19)","v":0},0,0]
["D. 渭北エリア"]
["ブロック","町　　　名","ブロック別配布数",null,null,"配布希望数"]
["番号",null,"戸建","集合","全戸","戸建","集合","全戸"]
["01","南田宮２丁目",122,162,307]
["02","南田宮１丁目 中吉野町４丁目",266,491,777]
["03","北田宮１丁目 上助任町(三本松) 中吉野４丁目 田宮町（灘）",290,279,588]
["04","上助任町(大坪、天神、蛭子) 吉野本町６丁目 上吉野町３丁目",181,198,391]
["05","吉野本町６丁目 中吉野町３丁目",175,313,505]
["06","下助任町４丁目 北前川町４丁目 吉野本町３～５丁目",175,35,224]
["07","中前川町５丁目 南前川町５丁目 北前川町５丁目 下助任町５丁目",182,316,502]
["08","北前川町４丁目 中前川町４丁目 南前川町４丁目 吉野本町２丁目",102,179,299]
["09","中前川町１丁目 南前川町１、２丁目 助任本町１～３丁目 下助任町１丁目　北前川町１、２丁目",117,249,379]
["10","助任本町１～４丁目 助任橋１～４丁目 南常三島町１丁目 北常三島町１丁目　中常三島町１丁目",156,538,716]
["11","中前川町２、３丁目 南前川町２、３丁目 北前川町２、３丁目 吉野本町１～３丁目　下助任町３丁目",175,338,539]
["12","下助任町１、２丁目 助任本町４丁目 中吉野町１、２丁目 北前川町１、２丁目",164,105,269]
["13","中吉野町３丁目 吉野本町４、５丁目 下助任町３丁目",157,187,357]
["14","上吉野町１～３丁目 助任本町７丁目",274,152,432]
["15","中吉野町１、２丁目 助任本町５、６丁目",249,155,430]
["16","東吉野町１、２丁目 助任本町５～７丁目 北常三島町１、２丁目 助任橋４丁目",162,355,532]
[null,"小  　計",{"$f":"SUM(C24:C39)","v":2947},4052,7247,{"$f":"SUM(F24:F39)","v":0},{"$f":"SUM(G24:G39)","v":0},0]

{"sheet":"E渭東、F沖洲","index":5,"n_rows":45,"n_cols":8,"rows_kept":45,"cut":false,"hidden":false,"merged":[[2,5,2,7],[21,5,21,7],[0,0,0,7],[21,1,22,1],[21,2,21,4],[1,0,1,1],[2,2,2,4],[2,1,3,1],[20,0,20,1]]}
["▼ご希望のブロックの配布希望数をご入力ください"]
["E. 渭東エリア "]
["ブロック","町　　　名","ブロック別配布数",null,null,"配布希望数"]
["番号",null,"戸建","集合","全戸","戸建","集合","全戸"]
["01","北常三島町１～３丁目 中常三島町１、２丁目",110,650,789]
["02","北常三島町３丁目 中常三島町３丁目 南常三島町２、３丁目",167,549,731]
["03","住吉４丁目(10～12番地) 東吉野町２、３丁目",135,369,509]
["04","住吉４丁目(1～6番地)",174,404,586]
["05","住吉４丁目(7～9.13番地) ５丁目(1.2.4～8番地)",202,284,496]
["06","住吉５丁目(3番地） ６丁目 城東町２丁目(1番地)",146,125,292]
["07","住吉２丁目",281,555,857]
["08","住吉１丁目(1～3.9.10番地)",135,422,562]
["09","住吉１丁目(4～8.11番地)",166,272,443]
["10","住吉３丁目",265,320,591]
["11","城東町１丁目 住吉６丁目(1番地)",112,308,434]
["12","城東町２丁目 住吉６丁目(1番地)",57,374,431]
["13","安宅１丁目(3～10番地)　２丁目(3.4番地)",135,128,281]
["14","安宅２丁目(1.2.6～9番地)",205,46,261]
["15","安宅２丁目(5番地) ３丁目",106,126,232]
[null,"小  　計",{"$f":"SUM(C5:C19)","v":2396},4932,7495,{"$f":"SUM(F5:F19)","v":0},0,0]
["F. 沖洲エリア"]
["ブロック","町　　　名","ブロック別配布数",null,null,"配布希望数"]
["番号",null,"戸建","集合","全戸","戸建","集合","全戸"]
["01","福島１丁目(1.4～6.10番地)",100,150,257]
["02","福島１丁目(2.3.7～9番地)",146,145,301]
["03","新南福島１、２丁目 大和町１丁目(2番地)",194,73,281]
["04","福島２丁目 安宅１丁目(1.2番地)",143,334,489]
["05","大和町１丁目(1.3～8番地) ２丁目 末広２丁目",152,251,443]
["06","末広１丁目 南末広町(1.2番)",159,190,374]
["07","末広３丁目",80,122,207]
["08","末広４丁目(1～7番地)",116,297,414]
["09","末広４丁目(8～10番地)",14,312,329]
["10","末広２～５丁目",260,179,449]
["11","南末広町(1～7番)",132,202,354]
["12","金沢１丁目 ２丁目(1.4.5番地)",64,315,387]
["13","金沢２丁目(2.3.6番地) 北沖洲２丁目(9～14番地) ３丁目(9.10番地)",143,150,318]
["14","北沖洲３丁目(4.6～8番地) ４丁目",261,274,558]
["15","北沖洲２丁目(4～9番地) ３丁目(5～8番地)",194,173,384]
["16","北沖洲２丁目(1～3番地) ３丁目(1.2番地) 南沖洲２丁目(1～8番地)",283,128,420]
["17","北沖洲１丁目(8～10.13～15番地) 金沢１丁目(1～3番地) ２丁目(1.2番地)",271,129,412]
["18","北沖洲１丁目(1～7.11.12番地)",243,45,295]
["19","南沖洲１丁目",342,111,460]
["20","南沖洲３、４丁目 北沖洲３丁目(3番地) ４丁目(1～3番地)",226,298,529]
["21","南沖洲５丁目",174,89,279]
[null,"小  　計",{"$f":"SUM(C24:C44)","v":3697},3967,7940,{"$f":"SUM(F24:F44)","v":0},{"$f":"SUM(G24:G44)","v":0},0]

{"sheet":"G内町","index":6,"n_rows":27,"n_cols":8,"rows_kept":27,"cut":false,"hidden":false,"merged":[[2,5,2,7],[0,0,0,7],[1,0,1,1],[2,2,2,4],[2,1,3,1]]}
["▼ご希望のブロックの配布希望数をご入力ください"]
["G. 内町エリア"]
["ブロック","町　　　名","ブロック別配布数",null,null,"配布希望数"]
["番号",null,"戸建","集合","全戸","戸建","集合","全戸"]
["01","出来島本町１～４丁目　北出来島町1、２丁目　東出来島町 南出来島町１、２丁目 寺島本町西２丁目 徳島町城内 藍場町２丁目",171,289,550]
["02","寺島本町西１丁目 寺島本町東１～３丁目 一番町１～３丁目 元町１丁目 八百屋町１～３丁目 幸町１丁目 藍場町１丁目",16,50,362]
["03","八百屋町１～３丁目 通町２、３丁目 中通町２、３丁目 元町２丁目 新内町２丁目 南内町２、３丁目 藍場町１丁目 両国本町１、２丁目",91,120,240]
["04","通町１丁目 中通町１丁目 新内町１丁目 南内町１丁目 両国本町１、２丁目 八百屋町１丁目 幸町２、３丁目",56,126,250]
["05","幸町１～３丁目",32,97,193]
["06","富田浜１～４丁目 仲之町１～４丁目 伊月町１丁目 富田橋１丁目 かちどき橋１丁目 両国橋",42,167,237]
["07","東山手町 東大工町１～３丁目 伊賀町１、２丁目 弓町１、２丁目 幟町１、２丁目 大道１、２丁目 新町橋２丁目",164,104,336]
["08","伊月町１、２丁目 南仲之町１、２丁目 仲之町１、２丁目 富田橋１、２丁目 中央通１、２丁目 秋田町１、２丁目",202,273,485]
["09","仲之町３、４丁目 南仲之町３、４丁目 明神町１、２丁目 かちどき橋１、２丁目 富田橋１、２丁目 中央通３、４丁目",205,211,491]
["10","明神町３、４丁目 かちどき橋３、４丁目 中央通３、４丁目 南昭和町１丁目 富田橋３、４丁目",177,296,487]
["11","中央通１、２丁目 富田橋３、４丁目 伊月町３、４丁目",136,113,250]
["12","富田橋５～７丁目 明神町５、６丁目 秋田町５、６丁目 伊月町５、６丁目 かちどき橋５、６丁目 南昭和町１丁目",216,284,508]
["13","秋田町５丁目 栄町５丁目 鷹匠町５丁目 二軒屋町１丁目 勢見町１、２丁目",66,115,196]
["14","伊賀町３、４丁目 弓町３、４丁目 幟町３、４丁目 大道３、４丁目",184,126,323]
["15","徳島町２、３丁目 中徳島町１、２丁目 徳島本町１～３丁目",126,444,649]
["16","徳島本町２、３丁目 徳島町１丁目 新蔵町１～３丁目",97,254,407]
["17","中洲町１～３丁目",76,150,324]
["18","新町橋 東船場 東新町 銀座 富田町１、２丁目 籠屋町 南新町１、２丁目 紺屋町 東大工町 両国橋",62,254,480]
["19","西船場１～５丁目 西新町１～５丁目 西大工町１～５丁 西山手 寺町 眉山町 新町橋１、２丁目",91,36,270]
["20","秋田町１、２丁目 栄町１、２丁目 鷹匠町１、２丁目 大道１、２丁目 紺屋町",60,168,809]
["21","鷹匠町３、４丁目 栄町３、４丁目 秋田町３、４丁目 大道３、４丁目 伊月町３、４丁目",107,303,440]
["22","鷹匠町６丁目 栄町６丁目 秋田町６丁目 二軒屋町２、３丁目 富田橋７丁目 城南町１丁目 西二軒屋町１、２丁目 ",168,341,520]
[null,"小  　計",{"$f":"SUM(C5:C26)","v":2545},4321,8807,{"$f":"SUM(F5:F26)","v":0},{"$f":"SUM(G5:G26)","v":0},0]

{"sheet":"H昭和","index":7,"n_rows":22,"n_cols":8,"rows_kept":22,"cut":false,"hidden":false,"merged":[[2,5,2,7],[0,0,0,7],[1,0,1,1],[2,2,2,4],[2,1,3,1]]}
["▼ご希望のブロックの配布希望数をご入力ください"]
["H. 昭和エリア "]
["ブロック","町　　　名","ブロック別配布数",null,null,"配布希望数"]
["番号",null,"戸建","集合","全戸","戸建","集合","全戸"]
["01","昭和町３～６丁目 万代町１～６丁目",120,295,490]
["02","昭和町１～４丁目 中昭和町４丁目 かちどき橋１丁目",128,123,304]
["03","中昭和町１、２丁目 かちどき橋２丁目",115,112,267]
["04","中昭和町３、４丁目 南昭和町３丁目",139,52,201]
["05","中昭和町４、５丁目 昭和町５、６丁目 南昭和町４～６丁目",210,220,442]
["06","万代町７丁目 昭和町６～８丁目 南昭和町７丁目",171,352,542]
["07","昭和町８丁目",85,245,364]
["08","南昭和町１～３丁目 中昭和町１、２丁目 かちどき橋３丁目",97,393,552]
["09","南昭和町３、４丁目",211,297,518]
["10","南昭和町５、６丁目",130,523,659]
["11","南昭和町６、７丁目 昭和町６、８丁目 ",290,372,680]
["12","南二軒屋町１、２丁目 南二軒屋町(神成、新開)",161,249,439]
["13","沖浜町(北畑、北川、東畑、西畑) 沖浜１丁目 富田橋８丁目",235,409,648]
["14","沖浜町(南開、明治開、栄開、居屋敷、中道)　沖浜２、３丁目",258,376,659]
["15","沖浜東１、２丁目 山城西１、２丁目 山城町（西浜傍示）",63,721,800]
["16","山城町（東浜傍示、西浜傍示）",387,307,699]
["17","沖浜東３丁目 山城西３、４丁目",20,641,666]
[null,"小  　計",{"$f":"SUM(C5:C21)","v":2820},5687,8930,{"$f":"SUM(F5:F21)","v":0},0,0]

{"sheet":"I八万","index":8,"n_rows":31,"n_cols":8,"rows_kept":31,"cut":false,"hidden":false,"merged":[[2,5,2,7],[0,0,0,7],[1,0,1,1],[2,2,2,4],[2,1,3,1]]}
["▼ご希望のブロックの配布希望数をご入力ください"]
["I. 八万エリア"]
["ブロック","町　　　名","ブロック別配布数",null,null,"配布希望数"]
["番号",null,"戸建","集合","全戸","戸建","集合","全戸"]
["01","八万町（中津浦）",328,95,425]
["02","城南町１丁目（3～12番地） 八万町（中津浦、中津山） 南二軒屋町（西山）",302,210,522]
["03","城南町１丁目(2番地) ２丁目(1～6番地) ３丁目(1～3番地)",160,97,272]
["04","城南町２丁目(5～8番地) ３丁目（4～6番地） 八万町（下千鳥） 南二軒屋町（石井利、西開）",138,43,195]
["05","八万町（内浜、夷山） 城南町４丁目",250,173,433]
["06","八万町（千鳥、下千鳥）",300,156,465]
["07","八万町（下福万）",78,118,217]
["08","八万町（下福万、上福万、福万山、中津山）",330,44,384]
["09","八万町（上福万、下福万、柿谷、大坪）",469,175,664]
["11","八万町（宮の谷、馬場山、新貝、大坪）",376,132,516]
["12","八万町（大坪）",296,245,541]
["13","八万町（橋本、橋北、川南）",582,210,805]
["14","八万町（内浜） 南二軒屋町３丁目 問屋町",277,171,513]
["15","八万町（夷山、内浜）",360,161,529]
["16","八万町（川南、二丈）",358,267,649]
["17","八万町（法花、犬山） 大谷町（新堤、大開）",316,171,497]
["18","八万町（法花谷）",182,73,266]
["19","大谷町（大開、紅葉山、新堤、野見松、南ノ前、南谷、猿楽、壱里松、長開） 八万町（法花、法花谷） 北山町（銭亀坂）",402,59,461]
["20","上八万町（西山-北）しらさぎ台",552,0,557]
["21","上八万町（西山-南）しらさぎ台",625,0,633]
["22","上八万町（中山）センチュリーヒルズ",335,0,335]
["23","三軒屋町（上分、下分、外、西、東）",320,87,420]
["24","西須賀町（東開、下中須、又新堤、上野神、葛島）",393,204,627]
["25","西須賀町（中開、西開、鶴島） 方上町（鶴島） 勝占町（原）",504,198,713]
["26","丈六町（山端、山脇、新居田、丈領、吉田） 多家良町（北内）",420,10,430]
["27","丈六町（長尾、休場、丈領） 渋野町（南水窪）",419,0,423]
[null,"小  　計",{"$f":"SUM(C5:C30)","v":9072},3099,12492,{"$f":"SUM(F5:F30)","v":0},0,0]

{"sheet":"J津田","index":9,"n_rows":25,"n_cols":8,"rows_kept":25,"cut":false,"hidden":false,"merged":[[2,5,2,7],[0,0,0,7],[1,0,1,1],[2,2,2,4],[2,1,3,1]]}
["▼ご希望のブロックの配布希望数をご入力ください"]
["J. 津田エリア"]
["ブロック","町　　　名","ブロック別配布数",null,null,"配布希望数"]
["番号",null,"戸建","集合","全戸","戸建","集合","全戸"]
["01","津田町３丁目(5番地) ４丁目",222,148,375]
["02","津田町１丁目",313,90,403]
["03","津田町２丁目 ３丁目(1～4.6.7番地)",314,90,441]
["04","津田本町１、２丁目",212,38,286]
["05","津田本町３丁目 ４丁目（2.3番地） ５丁目（2番地）",246,166,418]
["06","津田本町４丁目（1～3番地） ５丁目 新浜本町１丁目(7.8番地)",371,147,528]
["07","津田西町１、２丁目 新浜本町４丁目（1番地）",166,55,232]
["08","新浜本町４丁目(5番地) 津田浜之町　新浜町1丁目(1番地)",105,48,159]
["09","新浜町１丁目 ２丁目（3番地）",159,56,220]
["10","新浜町１丁目（5番地） ２丁目（4番地） ４丁目",208,119,330]
["11","新浜町２、３丁目 新浜本町３丁目(7番地)",375,241,616]
["12","新浜本町３丁目 ４丁目（2～5番地）",329,105,441]
["13","新浜本町１丁目(1～7番地) ２丁目(1～3番地)",142,116,271]
["14","西新浜町１丁目(1～3番地)",184,259,446]
["15","西新浜町１丁目(4～6番地) ２丁目",261,228,534]
["16","論田町（小論田、本浦下、本浦中、和太開、大江）",350,109,484]
["17","論田町（和田開、元開、中開、新開、大江、小論田、本浦下、外籠）",127,50,205]
["18","論田町（本浦下、本浦上、本浦中） 大原町（野神、中須、千代ヶ丸）",335,218,573]
["19","大原町（長尾、壱町地、余慶、内開、広裏、池ノ内）",483,191,691]
["20","大原町（千代ヶ丸、内開、野神、池の内、池内山、千代ヶ丸山、東千代ヶ丸、川添）",551,161,741]
[null,"小  　計",{"$f":"SUM(C5:C24)","v":5453},2635,8394,{"$f":"SUM(F5:F24)","v":0},0,0]

{"sheet":"K1川内・K2応神・K3国府","index":10,"n_rows":18,"n_cols":8,"rows_kept":18,"cut":false,"hidden":false,"merged":[[2,5,2,7],[8,5,8,7],[14,5,14,7],[0,0,0,7],[13,0,13,1],[8,1,9,1],[8,2,8,4],[14,1,15,1],[14,2,14,4],[7,0,7,1],[1,0,1,1],[2,2,2,4],[2,1,3,1]]}
["▼ご希望のブロックの配布希望数をご入力ください"]
["K1. 川内エリア"]
["ブロック","町　　　名","ブロック別配布数",null,null,"配布希望数"]
["番号",null,"戸建","集合","全戸","戸建","集合","全戸"]
["01","加賀須野、平石夷野、平石住吉、米津、平石若松、平石古田、平石若宮、富久、鈴江東、鈴江北、鈴江南、竹須賀、大松、沖島、旭野、小松東、小松西、下別宮東、下別宮西、松岡、宮島本浦、宮島浜、宮島錦野、鶴島、富吉、平石流通団地",128,541,669]
["02","鈴江南、鈴江北、鈴江東、鈴江西、沖島、竹須賀、平石古田、大松、平石夷野、加賀須野、中島、上別宮東、金岡",271,585,856]
[null,"小  　計",{"$f":"SUM(C5:C6)","v":399},1126,1525,{"$f":"SUM(F5:F6)","v":0},{"$f":"SUM(G5:G6)","v":0},0]
["K2. 応神エリア"]
["ブロック","町　　　名","ブロック別配布数",null,null,"配布希望数"]
["番号",null,"戸建","集合","全戸","戸建","集合","全戸"]
["01","川内町中島、大松、竹須賀、榎瀬、沖島、加賀須野、中島、上別宮北、上別宮南、北原、応神町古川字日ノ上、字戎子野",253,848,1101]
["02","川内町榎瀬、応神町古川字日ノ上、字戎子野、字北、字井利ノ元、字東、字北、字東中道、字宮ノ前、字高良、字西",0,819,819]
[null,"小  　計",{"$f":"SUM(C11:C12)","v":253},1667,1920,{"$f":"SUM(F11:F12)","v":0},0,0]
["K3. 国府エリア"]
["ブロック","町　　　名","ブロック別配布数",null,null,"配布希望数"]
["番号",null,"戸建","集合","全戸","戸建","集合","全戸"]
["01","国府町の集合住宅＋竜王の一部戸建",208,1354,1562]
[null,"小  　計",{"$f":"SUM(C17:C17)","v":208},1354,1562,{"$f":"F17","v":0},0,0]

{"sheet":"L1石井・L2北島・L3松茂・L4藍住・L5鳴門","index":11,"n_rows":38,"n_cols":8,"rows_kept":38,"cut":false,"hidden":false,"merged":[[21,0,21,1],[21,2,21,3],[31,1,32,1],[31,2,31,4],[22,1,23,1],[22,2,22,4],[30,0,30,1],[30,2,30,3],[7,2,7,4],[14,0,14,1],[14,2,14,3],[15,1,16,1],[15,2,15,4],[21,6,21,7],[22,5,22,7],[30,6,30,7],[31,5,31,7],[0,0,0,7],[2,5,2,7],[6,6,6,7],[7,5,7,7],[14,6,14,7],[15,5,15,7],[6,0,6,1],[6,2,6,3],[1,0,1,1],[2,1,3,1],[2,2,2,4],[7,1,8,1]]}
["▼ご希望のブロックの配布希望数をご入力ください"]
["L1. 石井エリア"]
["ブロック","町　　　名","ブロック別配布数",null,null,"配布希望数"]
["番号",null,"戸建","集合","全戸","戸建","集合","全戸"]
["01","石井町の集合住宅＋石井町石井・高川原・竜王の\n一部戸建",400,1307,1707]
[null,"小  　計",{"$f":"SUM(C5:C5)","v":400},1307,1707,{"$f":"F5","v":0},0,0]
["L2. 北島エリア"]
["ブロック","町　　　名","ブロック別配布数",null,null,"配布希望数"]
["番号",null,"戸建","集合","全戸","戸建","集合","全戸"]
["01","北村、中村、江尻、太郎八須、松茂町広島字丸須＋太郎八須・中村の一部戸建",328,430,758]
["02","北村、新喜来、中村、太郎八須、高房、鳴門市大麻町市場",272,619,891]
["03","江尻、鯛浜、応神町古川字鯛ノ浜添＋鯛浜の一部戸建",125,751,876]
["04","勝瑞、高房、中村、江尻、鯛浜、応神町古川字鯛ノ浜添＋鯛浜の一部戸建",201,829,1030]
[null,"小  　計",{"$f":"SUM(C10:C13)","v":926},2629,3555,{"$f":"SUM(F10:F13)","v":0},{"$f":"SUM(G10:G13)","v":0},0]
["L3. 松茂エリア"]
["ブロック","町　　　名","ブロック別配布数",null,null,"配布希望数"]
["番号",null,"戸建","集合","全戸","戸建","集合","全戸"]
["01","中喜来、広島、笹木野、満穂＋中喜来の一部戸建",235,1137,1372]
["02","広島、北島町中村、松茂町広島の一部戸建",263,322,585]
["03","住吉、笹木野",0,516,516]
[null,"小  　計",{"$f":"SUM(C18:C20)","v":498},1975,2473,{"$f":"SUM(F18:F20)","v":0},0,0]
["L4. 藍住エリア"]
["ブロック","町　　　名","ブロック別配布数",null,null,"配布希望数"]
["番号",null,"戸建","集合","全戸","戸建","集合","全戸"]
["01","乙瀬、勝瑞、矢上、笠木、住吉、奥野、徳命＋乙瀬、勝瑞以外の一部戸建",735,1096,1831]
["02","乙瀬、矢上、東中富、富吉＋一部戸建",479,675,1154]
["03","奥野、矢上、徳命＋奥野の一部戸建",205,737,942]
["04","勝瑞、住吉、鳴門市大麻町市場＋勝瑞の一部戸建",215,641,856]
["05","東中富、奥野、徳命＋東中富・奥野の一部戸建",55,279,334]
[null,"小  　計",{"$f":"SUM(C25:C29)","v":1689},3428,5117,{"$f":"SUM(F25:F29)","v":0},0,0]
["L5.鳴門エリア"]
["ブロック","町　　　名","ブロック別配布数",null,null,"配布希望数"]
["番号",null,"戸建","集合","全戸","戸建","集合","全戸"]
["01","鳴門町高島、三ツ石",0,1236,1236]
["02","撫養町南浜、小桑島、大桑島、黒崎、斉田、木津、瀬戸町＋撫養町の一部戸建",336,1403,1739]
["03","撫養町林崎、北浜、弁財天、岡崎、立岩、里浦町の一部＋撫養町の一部戸建",286,572,858]
["04","撫養町小桑島、南浜、斉田、木津、大津町＋大津町の一部戸建",400,1170,1570]
[null,"小  　計",{"$f":"SUM(C34:C37)","v":1022},4381,5403,{"$f":"SUM(F34:F37)","v":0},0,0]

{"sheet":"L6小松島・M1阿南・M2吉野川","index":12,"n_rows":25,"n_cols":8,"rows_kept":25,"cut":false,"hidden":false,"merged":[[2,5,2,7],[11,5,11,7],[21,5,21,7],[0,0,0,7],[20,0,20,1],[21,1,22,1],[21,2,21,4],[2,2,2,4],[2,1,3,1],[11,1,12,1],[11,2,11,4],[10,0,10,1],[1,0,1,1]]}
["▼ご希望のブロックの配布希望数をご入力ください"]
["L6. 小松島エリア"]
["ブロック","町　　　名","ブロック別配布数",null,null,"配布希望数"]
["番号",null,"戸建","集合","全戸","戸建","集合","全戸"]
["01","江田町、中郷町、中田町、前原町、小松島町＋中田町の一部戸建",225,695,920]
["02","中郷町、神田瀬町、堀川町、松島町、小松島町、中田町、南小松島町＋小松島町・中田町の一部戸建",380,537,917]
["03","横須町、小松島町、芝生町、田野町、日開野町、金磯町＋横須町の一部戸建",344,665,1009]
["04","和田津開町、豊浦町、赤石町、大林町、金磯町、立江町、田野町、和田島町、間新田町、坂野町＋間新田町・和田島町の一部戸建",605,742,1347]
[null,"小  　計",{"$f":"SUM(C5:C8)","v":1554},2639,4193,{"$f":"SUM(F5:F8)","v":0},{"$f":"SUM(G5:G8)","v":0},{"$f":"SUM(H5:H8)","v":0}]
[]
["M1. 阿南エリア"]
["ブロック","町　　　名","ブロック別配布数",null,null,"配布希望数"]
["番号",null,"戸建","集合","全戸","戸建","集合","全戸"]
["01","上中町、宝田町、柳島町、横見町、長生町",0,519,519]
["02","羽ノ浦町の一部戸建",846,903,1749]
["03","那賀川町",0,523,523]
["04","富岡町、日開野町、領家町、西路見町、七見町、出来町、原ヶ崎町、向原町、黒津地町、畭町、福村町、住吉町",0,845,845]
["05","学原町、見能林町、才見町、津乃峰町",0,1041,1041]
[null,"小  　計",{"$f":"SUM(C14:C18)","v":846},3831,4677,{"$f":"SUM(F14:F18)","v":0},{"$f":"SUM(G14:G18)","v":0},0]
[]
["M2. 吉野川エリア"]
["ブロック","町　　　名","ブロック別配布数",null,null,"配布希望数"]
["番号",null,"戸建","集合","全戸","戸建","集合","全戸"]
["01","鴨島町",0,1400,1400]
[null,"小  　計",{"$f":"SUM(C20:C24)","v":0},1400,1400,{"$f":"SUM(F20:F24)","v":0},0,0]